BEGIN:VCALENDAR
VERSION:2.0
PRODID:-//Recovery Revolution - ECPv6.15.20//NONSGML v1.0//EN
CALSCALE:GREGORIAN
METHOD:PUBLISH
X-ORIGINAL-URL:https://recoveryrevolutionnc.com
X-WR-CALDESC:Events for Recovery Revolution
REFRESH-INTERVAL;VALUE=DURATION:PT1H
X-Robots-Tag:noindex
X-PUBLISHED-TTL:PT1H
BEGIN:VTIMEZONE
TZID:America/New_York
BEGIN:DAYLIGHT
TZOFFSETFROM:-0500
TZOFFSETTO:-0400
TZNAME:EDT
DTSTART:20240310T070000
END:DAYLIGHT
BEGIN:STANDARD
TZOFFSETFROM:-0400
TZOFFSETTO:-0500
TZNAME:EST
DTSTART:20241103T060000
END:STANDARD
BEGIN:DAYLIGHT
TZOFFSETFROM:-0500
TZOFFSETTO:-0400
TZNAME:EDT
DTSTART:20250309T070000
END:DAYLIGHT
BEGIN:STANDARD
TZOFFSETFROM:-0400
TZOFFSETTO:-0500
TZNAME:EST
DTSTART:20251102T060000
END:STANDARD
BEGIN:DAYLIGHT
TZOFFSETFROM:-0500
TZOFFSETTO:-0400
TZNAME:EDT
DTSTART:20260308T070000
END:DAYLIGHT
BEGIN:STANDARD
TZOFFSETFROM:-0400
TZOFFSETTO:-0500
TZNAME:EST
DTSTART:20261101T060000
END:STANDARD
END:VTIMEZONE
BEGIN:VEVENT
DTSTART;TZID=America/New_York:20250916T120000
DTEND;TZID=America/New_York:20250916T130000
DTSTAMP:20260421T042630
CREATED:20250628T024823Z
LAST-MODIFIED:20250628T024823Z
UID:10000987-1758024000-1758027600@recoveryrevolutionnc.com
SUMMARY:Voices of Hope: Speaker Meeting
DESCRIPTION:Speaker meetings where individuals in recovery share their personal stories of struggle\, resilience\, and transformation to inspire others.
URL:https://recoveryrevolutionnc.com/event/voices-of-hope-speaker-meeting/2025-09-16/
LOCATION:R3 Recovery Center\, 234 Jefferson Street\, North Wilkesboro\, NC\, 28659\, United States
CATEGORIES:Groups,R3 Recovery Center
END:VEVENT
BEGIN:VEVENT
DTSTART;TZID=America/New_York:20250915T120000
DTEND;TZID=America/New_York:20250915T130000
DTSTAMP:20260421T042630
CREATED:20250628T024636Z
LAST-MODIFIED:20250628T024636Z
UID:10000732-1757937600-1757941200@recoveryrevolutionnc.com
SUMMARY:Dharma Recovery Meeting
DESCRIPTION:A mindfulness-based support group grounded in Buddhist principles\, offering tools for overcoming addiction through meditation\, self-inquiry\, and community connection.
URL:https://recoveryrevolutionnc.com/event/dharma-recovery-meeting/2025-09-15/
LOCATION:R3 Recovery Center\, 234 Jefferson Street\, North Wilkesboro\, NC\, 28659\, United States
CATEGORIES:Groups,R3 Recovery Center
END:VEVENT
BEGIN:VEVENT
DTSTART;TZID=America/New_York:20250912T120000
DTEND;TZID=America/New_York:20250912T130000
DTSTAMP:20260421T042630
CREATED:20250628T024443Z
LAST-MODIFIED:20250628T024443Z
UID:10000472-1757678400-1757682000@recoveryrevolutionnc.com
SUMMARY:SMART Recovery Meeting
DESCRIPTION:A science-based recovery group focused on self-empowerment and practical tools to build motivation\, manage urges\, and develop healthy thinking.
URL:https://recoveryrevolutionnc.com/event/smart-recovery-meeting/2025-09-12/
LOCATION:R3 Recovery Center\, 234 Jefferson Street\, North Wilkesboro\, NC\, 28659\, United States
CATEGORIES:Groups,R3 Recovery Center
END:VEVENT
BEGIN:VEVENT
DTSTART;TZID=America/New_York:20250911T120000
DTEND;TZID=America/New_York:20250911T130000
DTSTAMP:20260421T042630
CREATED:20250628T025219Z
LAST-MODIFIED:20250628T025500Z
UID:10001309-1757592000-1757595600@recoveryrevolutionnc.com
SUMMARY:Harmony Within Group
DESCRIPTION:A calming support group that blends meditation\, gratitude practices\, positive affirmations\, and music to promote inner peace and connection.
URL:https://recoveryrevolutionnc.com/event/harmony-within-group/2025-09-11/
LOCATION:R3 Recovery Center\, 234 Jefferson Street\, North Wilkesboro\, NC\, 28659\, United States
CATEGORIES:Groups,R3 Recovery Center
END:VEVENT
BEGIN:VEVENT
DTSTART;TZID=America/New_York:20250910T120000
DTEND;TZID=America/New_York:20250910T130000
DTSTAMP:20260421T042630
CREATED:20250628T023620Z
LAST-MODIFIED:20250628T023620Z
UID:10000145-1757505600-1757509200@recoveryrevolutionnc.com
SUMMARY:All Recovery Meeting
DESCRIPTION:Open to anyone seeking recovery\, regardless of pathway. This inclusive group offers a space for shared experiences\, mutual support\, and hope.
URL:https://recoveryrevolutionnc.com/event/all-recovery-meeting/2025-09-10/
LOCATION:R3 Recovery Center\, 234 Jefferson Street\, North Wilkesboro\, NC\, 28659\, United States
CATEGORIES:Groups,R3 Recovery Center
END:VEVENT
BEGIN:VEVENT
DTSTART;TZID=America/New_York:20250909T120000
DTEND;TZID=America/New_York:20250909T130000
DTSTAMP:20260421T042630
CREATED:20250628T023108Z
LAST-MODIFIED:20250628T023109Z
UID:10000009-1757419200-1757422800@recoveryrevolutionnc.com
SUMMARY:He“ART” Works Group
DESCRIPTION:A creative recovery art group using various artistic mediums to express emotions\, promote healing\, and create meaningful works straight from the heart.
URL:https://recoveryrevolutionnc.com/event/heart-works-group-2/2025-09-09/
LOCATION:R3 Recovery Center\, 234 Jefferson Street\, North Wilkesboro\, NC\, 28659\, United States
CATEGORIES:Groups,R3 Recovery Center
END:VEVENT
BEGIN:VEVENT
DTSTART;TZID=America/New_York:20250908T120000
DTEND;TZID=America/New_York:20250908T130000
DTSTAMP:20260421T042630
CREATED:20250628T024636Z
LAST-MODIFIED:20250628T024636Z
UID:10000731-1757332800-1757336400@recoveryrevolutionnc.com
SUMMARY:Dharma Recovery Meeting
DESCRIPTION:A mindfulness-based support group grounded in Buddhist principles\, offering tools for overcoming addiction through meditation\, self-inquiry\, and community connection.
URL:https://recoveryrevolutionnc.com/event/dharma-recovery-meeting/2025-09-08/
LOCATION:R3 Recovery Center\, 234 Jefferson Street\, North Wilkesboro\, NC\, 28659\, United States
CATEGORIES:Groups,R3 Recovery Center
END:VEVENT
BEGIN:VEVENT
DTSTART;TZID=America/New_York:20250905T120000
DTEND;TZID=America/New_York:20250905T140000
DTSTAMP:20260421T042630
CREATED:20250821T021551Z
LAST-MODIFIED:20250821T021710Z
UID:10001444-1757073600-1757080800@recoveryrevolutionnc.com
SUMMARY:Ribbon Cutting & Campus Vision Showcase
DESCRIPTION:We are excited to invite you to the Ribbon Cutting Ceremony at our new campus for our Substance Abuse Comprehensive Treatment (SACOT) Program at 2500 Pleasant Ridge Rd\, State Road\, NC\, on Friday\, September 5th\, 2025\, from 12:00 PM to 2:00 PM. The event will begin with a special Ribbon Cutting Ceremony\, featuring guest speakers\, refreshments\, and snacks. Afterward\, we will offer tours of our new facility and hold a groundbreaking ceremony to showcase our exciting vision for the future development of the entire campus.\nThis event marks an important milestone in our mission to provide comprehensive support for individuals in recovery\, and we can’t wait to share our progress with you. Please RSVP using the link below. Once registered\, we will send out updates including parking details\, campus information\, and announcements about our special guest speakers.\n\nRSVP:https://lp.constantcontactpages.com/…/beee9055-0e88…
URL:https://recoveryrevolutionnc.com/event/281090/
LOCATION:Cameron Ridge Treatment Center\, 2500 Pleasant Ridge Road\, State Road\, NC\, 28676\, United States
ATTACH;FMTTYPE=image/jpeg:https://recoveryrevolutionnc.com/wp-content/uploads/2025/08/533260993_122149663082423428_5376540300892436565_n.jpg
END:VEVENT
BEGIN:VEVENT
DTSTART;TZID=America/New_York:20250905T120000
DTEND;TZID=America/New_York:20250905T130000
DTSTAMP:20260421T042630
CREATED:20250628T024443Z
LAST-MODIFIED:20250628T024443Z
UID:10000471-1757073600-1757077200@recoveryrevolutionnc.com
SUMMARY:SMART Recovery Meeting
DESCRIPTION:A science-based recovery group focused on self-empowerment and practical tools to build motivation\, manage urges\, and develop healthy thinking.
URL:https://recoveryrevolutionnc.com/event/smart-recovery-meeting/2025-09-05/
LOCATION:R3 Recovery Center\, 234 Jefferson Street\, North Wilkesboro\, NC\, 28659\, United States
CATEGORIES:Groups,R3 Recovery Center
END:VEVENT
BEGIN:VEVENT
DTSTART;TZID=America/New_York:20250904T120000
DTEND;TZID=America/New_York:20250904T130000
DTSTAMP:20260421T042630
CREATED:20250628T025040Z
LAST-MODIFIED:20250628T025647Z
UID:10001374-1756987200-1756990800@recoveryrevolutionnc.com
SUMMARY:Screen & Share Group
DESCRIPTION:Watch and discuss recovery-centered content\, such as movies\, documentaries\, TED Talks\, or inspirational speakers\, followed by group reflection.
URL:https://recoveryrevolutionnc.com/event/screen-share-group/2025-09-04/
LOCATION:R3 Recovery Center\, 234 Jefferson Street\, North Wilkesboro\, NC\, 28659\, United States
CATEGORIES:Groups,R3 Recovery Center
END:VEVENT
BEGIN:VEVENT
DTSTART;TZID=America/New_York:20250903T120000
DTEND;TZID=America/New_York:20250903T130000
DTSTAMP:20260421T042630
CREATED:20250628T023620Z
LAST-MODIFIED:20250628T023620Z
UID:10000144-1756900800-1756904400@recoveryrevolutionnc.com
SUMMARY:All Recovery Meeting
DESCRIPTION:Open to anyone seeking recovery\, regardless of pathway. This inclusive group offers a space for shared experiences\, mutual support\, and hope.
URL:https://recoveryrevolutionnc.com/event/all-recovery-meeting/2025-09-03/
LOCATION:R3 Recovery Center\, 234 Jefferson Street\, North Wilkesboro\, NC\, 28659\, United States
CATEGORIES:Groups,R3 Recovery Center
END:VEVENT
BEGIN:VEVENT
DTSTART;TZID=America/New_York:20250902T120000
DTEND;TZID=America/New_York:20250902T130000
DTSTAMP:20260421T042630
CREATED:20250628T024823Z
LAST-MODIFIED:20250628T024823Z
UID:10000986-1756814400-1756818000@recoveryrevolutionnc.com
SUMMARY:Voices of Hope: Speaker Meeting
DESCRIPTION:Speaker meetings where individuals in recovery share their personal stories of struggle\, resilience\, and transformation to inspire others.
URL:https://recoveryrevolutionnc.com/event/voices-of-hope-speaker-meeting/2025-09-02/
LOCATION:R3 Recovery Center\, 234 Jefferson Street\, North Wilkesboro\, NC\, 28659\, United States
CATEGORIES:Groups,R3 Recovery Center
END:VEVENT
BEGIN:VEVENT
DTSTART;TZID=America/New_York:20250901T120000
DTEND;TZID=America/New_York:20250901T130000
DTSTAMP:20260421T042630
CREATED:20250628T024636Z
LAST-MODIFIED:20250628T024636Z
UID:10000730-1756728000-1756731600@recoveryrevolutionnc.com
SUMMARY:Dharma Recovery Meeting
DESCRIPTION:A mindfulness-based support group grounded in Buddhist principles\, offering tools for overcoming addiction through meditation\, self-inquiry\, and community connection.
URL:https://recoveryrevolutionnc.com/event/dharma-recovery-meeting/2025-09-01/
LOCATION:R3 Recovery Center\, 234 Jefferson Street\, North Wilkesboro\, NC\, 28659\, United States
CATEGORIES:Groups,R3 Recovery Center
END:VEVENT
BEGIN:VEVENT
DTSTART;TZID=America/New_York:20250831T180000
DTEND;TZID=America/New_York:20250831T203000
DTSTAMP:20260421T042630
CREATED:20250821T021003Z
LAST-MODIFIED:20250821T021003Z
UID:10001443-1756663200-1756672200@recoveryrevolutionnc.com
SUMMARY:Overdose Awareness Event: BRING IT TO LIGHT
DESCRIPTION: Bring It to Light: Honoring National Overdose Awareness DayJoin us for Bring It to Light\, a community candlelight gathering to honor National Overdose Awareness Day\, the world’s largest annual campaign to end overdose. This event provides a sacred moment to:\n Remember those we’ve lost to drug overdose Acknowledge the grief of families and friends left behind Raise awareness and foster hope for prevention\, recovery\, and healing\n Date: Sunday\, August 31\, 2025 Time: 6:00 PM – 8:00 PM Location: Carolina West Wireless Community Commons / Wilkes Telecommunications Pavilion102 West Main Street\, Wilkesboro\, NC 28697\nPowered by Wilkes Recovery Revolution and the Wilkes Harm Reduction Collective\, this evening of remembrance will bring our community together in compassion and solidarity. \nAll are welcome. Together\, let’s bring the issue of overdose out of the shadows and into the light.
URL:https://recoveryrevolutionnc.com/event/overdose-awareness-event-bring-it-to-light/
LOCATION:Carolina West Wireless Community Commons/Wilkes Telecommunications Pavilion\, 102 West Main Street\, Wilkesboro\, NC\, 28697\, United States
ATTACH;FMTTYPE=image/jpeg:https://recoveryrevolutionnc.com/wp-content/uploads/2025/08/OAD-2025.jpg
END:VEVENT
BEGIN:VEVENT
DTSTART;TZID=America/New_York:20250829T120000
DTEND;TZID=America/New_York:20250829T130000
DTSTAMP:20260421T042630
CREATED:20250628T024443Z
LAST-MODIFIED:20250628T024443Z
UID:10000470-1756468800-1756472400@recoveryrevolutionnc.com
SUMMARY:SMART Recovery Meeting
DESCRIPTION:A science-based recovery group focused on self-empowerment and practical tools to build motivation\, manage urges\, and develop healthy thinking.
URL:https://recoveryrevolutionnc.com/event/smart-recovery-meeting/2025-08-29/
LOCATION:R3 Recovery Center\, 234 Jefferson Street\, North Wilkesboro\, NC\, 28659\, United States
CATEGORIES:Groups,R3 Recovery Center
END:VEVENT
BEGIN:VEVENT
DTSTART;TZID=America/New_York:20250828T120000
DTEND;TZID=America/New_York:20250828T130000
DTSTAMP:20260421T042630
CREATED:20250628T024140Z
LAST-MODIFIED:20250628T024140Z
UID:10000398-1756382400-1756386000@recoveryrevolutionnc.com
SUMMARY:Winning Together: Recovery Game Day
DESCRIPTION:Join us for a fun and supportive group experience where we play a variety of games\, build connections\, and celebrate wins—big and small—together. Whether it’s cards\, board games\, trivia\, or team challenges\, Winning Together is about more than just playing—it’s about strengthening recovery through laughter\, teamwork\, and shared success. Everyone is welcome—let’s win together!
URL:https://recoveryrevolutionnc.com/event/winning-together-recovery-game-day/2025-08-28/
LOCATION:R3 Recovery Center\, 234 Jefferson Street\, North Wilkesboro\, NC\, 28659\, United States
END:VEVENT
BEGIN:VEVENT
DTSTART;TZID=America/New_York:20250827T120000
DTEND;TZID=America/New_York:20250827T130000
DTSTAMP:20260421T042630
CREATED:20250628T023620Z
LAST-MODIFIED:20250628T023620Z
UID:10000143-1756296000-1756299600@recoveryrevolutionnc.com
SUMMARY:All Recovery Meeting
DESCRIPTION:Open to anyone seeking recovery\, regardless of pathway. This inclusive group offers a space for shared experiences\, mutual support\, and hope.
URL:https://recoveryrevolutionnc.com/event/all-recovery-meeting/2025-08-27/
LOCATION:R3 Recovery Center\, 234 Jefferson Street\, North Wilkesboro\, NC\, 28659\, United States
CATEGORIES:Groups,R3 Recovery Center
END:VEVENT
BEGIN:VEVENT
DTSTART;TZID=America/New_York:20250826T120000
DTEND;TZID=America/New_York:20250826T130000
DTSTAMP:20260421T042630
CREATED:20250628T023108Z
LAST-MODIFIED:20250628T023109Z
UID:10000008-1756209600-1756213200@recoveryrevolutionnc.com
SUMMARY:He“ART” Works Group
DESCRIPTION:A creative recovery art group using various artistic mediums to express emotions\, promote healing\, and create meaningful works straight from the heart.
URL:https://recoveryrevolutionnc.com/event/heart-works-group-2/2025-08-26/
LOCATION:R3 Recovery Center\, 234 Jefferson Street\, North Wilkesboro\, NC\, 28659\, United States
CATEGORIES:Groups,R3 Recovery Center
END:VEVENT
BEGIN:VEVENT
DTSTART;TZID=America/New_York:20250825T120000
DTEND;TZID=America/New_York:20250825T130000
DTSTAMP:20260421T042630
CREATED:20250628T024636Z
LAST-MODIFIED:20250628T024636Z
UID:10000729-1756123200-1756126800@recoveryrevolutionnc.com
SUMMARY:Dharma Recovery Meeting
DESCRIPTION:A mindfulness-based support group grounded in Buddhist principles\, offering tools for overcoming addiction through meditation\, self-inquiry\, and community connection.
URL:https://recoveryrevolutionnc.com/event/dharma-recovery-meeting/2025-08-25/
LOCATION:R3 Recovery Center\, 234 Jefferson Street\, North Wilkesboro\, NC\, 28659\, United States
CATEGORIES:Groups,R3 Recovery Center
END:VEVENT
BEGIN:VEVENT
DTSTART;TZID=America/New_York:20250822T120000
DTEND;TZID=America/New_York:20250822T130000
DTSTAMP:20260421T042630
CREATED:20250628T024443Z
LAST-MODIFIED:20250628T024443Z
UID:10000469-1755864000-1755867600@recoveryrevolutionnc.com
SUMMARY:SMART Recovery Meeting
DESCRIPTION:A science-based recovery group focused on self-empowerment and practical tools to build motivation\, manage urges\, and develop healthy thinking.
URL:https://recoveryrevolutionnc.com/event/smart-recovery-meeting/2025-08-22/
LOCATION:R3 Recovery Center\, 234 Jefferson Street\, North Wilkesboro\, NC\, 28659\, United States
CATEGORIES:Groups,R3 Recovery Center
END:VEVENT
BEGIN:VEVENT
DTSTART;TZID=America/New_York:20250821T120000
DTEND;TZID=America/New_York:20250821T130000
DTSTAMP:20260421T042630
CREATED:20250628T025342Z
LAST-MODIFIED:20250628T025342Z
UID:10001243-1755777600-1755781200@recoveryrevolutionnc.com
SUMMARY:The Common Thread
DESCRIPTION:A topic-driven discussion group designed to explore shared experiences\, challenges\, and successes in recovery through open\, guided conversations.
URL:https://recoveryrevolutionnc.com/event/the-common-thread/2025-08-21/
LOCATION:R3 Recovery Center\, 234 Jefferson Street\, North Wilkesboro\, NC\, 28659\, United States
CATEGORIES:Groups,R3 Recovery Center
END:VEVENT
BEGIN:VEVENT
DTSTART;TZID=America/New_York:20250820T120000
DTEND;TZID=America/New_York:20250820T130000
DTSTAMP:20260421T042630
CREATED:20250628T023620Z
LAST-MODIFIED:20250628T023620Z
UID:10000142-1755691200-1755694800@recoveryrevolutionnc.com
SUMMARY:All Recovery Meeting
DESCRIPTION:Open to anyone seeking recovery\, regardless of pathway. This inclusive group offers a space for shared experiences\, mutual support\, and hope.
URL:https://recoveryrevolutionnc.com/event/all-recovery-meeting/2025-08-20/
LOCATION:R3 Recovery Center\, 234 Jefferson Street\, North Wilkesboro\, NC\, 28659\, United States
CATEGORIES:Groups,R3 Recovery Center
END:VEVENT
BEGIN:VEVENT
DTSTART;TZID=America/New_York:20250819T120000
DTEND;TZID=America/New_York:20250819T130000
DTSTAMP:20260421T042630
CREATED:20250628T024823Z
LAST-MODIFIED:20250628T024823Z
UID:10000985-1755604800-1755608400@recoveryrevolutionnc.com
SUMMARY:Voices of Hope: Speaker Meeting
DESCRIPTION:Speaker meetings where individuals in recovery share their personal stories of struggle\, resilience\, and transformation to inspire others.
URL:https://recoveryrevolutionnc.com/event/voices-of-hope-speaker-meeting/2025-08-19/
LOCATION:R3 Recovery Center\, 234 Jefferson Street\, North Wilkesboro\, NC\, 28659\, United States
CATEGORIES:Groups,R3 Recovery Center
END:VEVENT
BEGIN:VEVENT
DTSTART;TZID=America/New_York:20250818T120000
DTEND;TZID=America/New_York:20250818T130000
DTSTAMP:20260421T042630
CREATED:20250628T024636Z
LAST-MODIFIED:20250628T024636Z
UID:10000728-1755518400-1755522000@recoveryrevolutionnc.com
SUMMARY:Dharma Recovery Meeting
DESCRIPTION:A mindfulness-based support group grounded in Buddhist principles\, offering tools for overcoming addiction through meditation\, self-inquiry\, and community connection.
URL:https://recoveryrevolutionnc.com/event/dharma-recovery-meeting/2025-08-18/
LOCATION:R3 Recovery Center\, 234 Jefferson Street\, North Wilkesboro\, NC\, 28659\, United States
CATEGORIES:Groups,R3 Recovery Center
END:VEVENT
BEGIN:VEVENT
DTSTART;TZID=America/New_York:20250815T120000
DTEND;TZID=America/New_York:20250815T130000
DTSTAMP:20260421T042630
CREATED:20250628T024443Z
LAST-MODIFIED:20250628T024443Z
UID:10000468-1755259200-1755262800@recoveryrevolutionnc.com
SUMMARY:SMART Recovery Meeting
DESCRIPTION:A science-based recovery group focused on self-empowerment and practical tools to build motivation\, manage urges\, and develop healthy thinking.
URL:https://recoveryrevolutionnc.com/event/smart-recovery-meeting/2025-08-15/
LOCATION:R3 Recovery Center\, 234 Jefferson Street\, North Wilkesboro\, NC\, 28659\, United States
CATEGORIES:Groups,R3 Recovery Center
END:VEVENT
BEGIN:VEVENT
DTSTART;TZID=America/New_York:20250814T120000
DTEND;TZID=America/New_York:20250814T130000
DTSTAMP:20260421T042630
CREATED:20250628T025219Z
LAST-MODIFIED:20250628T025500Z
UID:10001308-1755172800-1755176400@recoveryrevolutionnc.com
SUMMARY:Harmony Within Group
DESCRIPTION:A calming support group that blends meditation\, gratitude practices\, positive affirmations\, and music to promote inner peace and connection.
URL:https://recoveryrevolutionnc.com/event/harmony-within-group/2025-08-14/
LOCATION:R3 Recovery Center\, 234 Jefferson Street\, North Wilkesboro\, NC\, 28659\, United States
CATEGORIES:Groups,R3 Recovery Center
END:VEVENT
BEGIN:VEVENT
DTSTART;TZID=America/New_York:20250813T120000
DTEND;TZID=America/New_York:20250813T130000
DTSTAMP:20260421T042630
CREATED:20250628T023620Z
LAST-MODIFIED:20250628T023620Z
UID:10000141-1755086400-1755090000@recoveryrevolutionnc.com
SUMMARY:All Recovery Meeting
DESCRIPTION:Open to anyone seeking recovery\, regardless of pathway. This inclusive group offers a space for shared experiences\, mutual support\, and hope.
URL:https://recoveryrevolutionnc.com/event/all-recovery-meeting/2025-08-13/
LOCATION:R3 Recovery Center\, 234 Jefferson Street\, North Wilkesboro\, NC\, 28659\, United States
CATEGORIES:Groups,R3 Recovery Center
END:VEVENT
BEGIN:VEVENT
DTSTART;TZID=America/New_York:20250812T120000
DTEND;TZID=America/New_York:20250812T130000
DTSTAMP:20260421T042630
CREATED:20250628T023108Z
LAST-MODIFIED:20250628T023109Z
UID:10000007-1755000000-1755003600@recoveryrevolutionnc.com
SUMMARY:He“ART” Works Group
DESCRIPTION:A creative recovery art group using various artistic mediums to express emotions\, promote healing\, and create meaningful works straight from the heart.
URL:https://recoveryrevolutionnc.com/event/heart-works-group-2/2025-08-12/
LOCATION:R3 Recovery Center\, 234 Jefferson Street\, North Wilkesboro\, NC\, 28659\, United States
CATEGORIES:Groups,R3 Recovery Center
END:VEVENT
BEGIN:VEVENT
DTSTART;TZID=America/New_York:20250811T120000
DTEND;TZID=America/New_York:20250811T130000
DTSTAMP:20260421T042630
CREATED:20250628T024636Z
LAST-MODIFIED:20250628T024636Z
UID:10000727-1754913600-1754917200@recoveryrevolutionnc.com
SUMMARY:Dharma Recovery Meeting
DESCRIPTION:A mindfulness-based support group grounded in Buddhist principles\, offering tools for overcoming addiction through meditation\, self-inquiry\, and community connection.
URL:https://recoveryrevolutionnc.com/event/dharma-recovery-meeting/2025-08-11/
LOCATION:R3 Recovery Center\, 234 Jefferson Street\, North Wilkesboro\, NC\, 28659\, United States
CATEGORIES:Groups,R3 Recovery Center
END:VEVENT
BEGIN:VEVENT
DTSTART;TZID=America/New_York:20250808T120000
DTEND;TZID=America/New_York:20250808T130000
DTSTAMP:20260421T042630
CREATED:20250628T024443Z
LAST-MODIFIED:20250628T024443Z
UID:10000467-1754654400-1754658000@recoveryrevolutionnc.com
SUMMARY:SMART Recovery Meeting
DESCRIPTION:A science-based recovery group focused on self-empowerment and practical tools to build motivation\, manage urges\, and develop healthy thinking.
URL:https://recoveryrevolutionnc.com/event/smart-recovery-meeting/2025-08-08/
LOCATION:R3 Recovery Center\, 234 Jefferson Street\, North Wilkesboro\, NC\, 28659\, United States
CATEGORIES:Groups,R3 Recovery Center
END:VEVENT
END:VCALENDAR