BEGIN:VCALENDAR
VERSION:2.0
PRODID:-//Recovery Revolution - ECPv6.15.20//NONSGML v1.0//EN
CALSCALE:GREGORIAN
METHOD:PUBLISH
X-ORIGINAL-URL:https://recoveryrevolutionnc.com
X-WR-CALDESC:Events for Recovery Revolution
REFRESH-INTERVAL;VALUE=DURATION:PT1H
X-Robots-Tag:noindex
X-PUBLISHED-TTL:PT1H
BEGIN:VTIMEZONE
TZID:America/New_York
BEGIN:DAYLIGHT
TZOFFSETFROM:-0500
TZOFFSETTO:-0400
TZNAME:EDT
DTSTART:20240310T070000
END:DAYLIGHT
BEGIN:STANDARD
TZOFFSETFROM:-0400
TZOFFSETTO:-0500
TZNAME:EST
DTSTART:20241103T060000
END:STANDARD
BEGIN:DAYLIGHT
TZOFFSETFROM:-0500
TZOFFSETTO:-0400
TZNAME:EDT
DTSTART:20250309T070000
END:DAYLIGHT
BEGIN:STANDARD
TZOFFSETFROM:-0400
TZOFFSETTO:-0500
TZNAME:EST
DTSTART:20251102T060000
END:STANDARD
BEGIN:DAYLIGHT
TZOFFSETFROM:-0500
TZOFFSETTO:-0400
TZNAME:EDT
DTSTART:20260308T070000
END:DAYLIGHT
BEGIN:STANDARD
TZOFFSETFROM:-0400
TZOFFSETTO:-0500
TZNAME:EST
DTSTART:20261101T060000
END:STANDARD
END:VTIMEZONE
BEGIN:VEVENT
DTSTART;TZID=America/New_York:20250801T120000
DTEND;TZID=America/New_York:20250801T130000
DTSTAMP:20260423T065812
CREATED:20250628T024443Z
LAST-MODIFIED:20250628T024443Z
UID:10000466-1754049600-1754053200@recoveryrevolutionnc.com
SUMMARY:SMART Recovery Meeting
DESCRIPTION:A science-based recovery group focused on self-empowerment and practical tools to build motivation\, manage urges\, and develop healthy thinking.
URL:https://recoveryrevolutionnc.com/event/smart-recovery-meeting/2025-08-01/
LOCATION:R3 Recovery Center\, 234 Jefferson Street\, North Wilkesboro\, NC\, 28659\, United States
CATEGORIES:Groups,R3 Recovery Center
END:VEVENT
BEGIN:VEVENT
DTSTART;TZID=America/New_York:20250731T120000
DTEND;TZID=America/New_York:20250731T130000
DTSTAMP:20260423T065812
CREATED:20250628T024140Z
LAST-MODIFIED:20250628T024140Z
UID:10000397-1753963200-1753966800@recoveryrevolutionnc.com
SUMMARY:Winning Together: Recovery Game Day
DESCRIPTION:Join us for a fun and supportive group experience where we play a variety of games\, build connections\, and celebrate wins—big and small—together. Whether it’s cards\, board games\, trivia\, or team challenges\, Winning Together is about more than just playing—it’s about strengthening recovery through laughter\, teamwork\, and shared success. Everyone is welcome—let’s win together!
URL:https://recoveryrevolutionnc.com/event/winning-together-recovery-game-day/2025-07-31/
LOCATION:R3 Recovery Center\, 234 Jefferson Street\, North Wilkesboro\, NC\, 28659\, United States
END:VEVENT
BEGIN:VEVENT
DTSTART;TZID=America/New_York:20250730T120000
DTEND;TZID=America/New_York:20250730T130000
DTSTAMP:20260423T065812
CREATED:20250628T023620Z
LAST-MODIFIED:20250628T023620Z
UID:10000139-1753876800-1753880400@recoveryrevolutionnc.com
SUMMARY:All Recovery Meeting
DESCRIPTION:Open to anyone seeking recovery\, regardless of pathway. This inclusive group offers a space for shared experiences\, mutual support\, and hope.
URL:https://recoveryrevolutionnc.com/event/all-recovery-meeting/2025-07-30/
LOCATION:R3 Recovery Center\, 234 Jefferson Street\, North Wilkesboro\, NC\, 28659\, United States
CATEGORIES:Groups,R3 Recovery Center
END:VEVENT
BEGIN:VEVENT
DTSTART;TZID=America/New_York:20250729T120000
DTEND;TZID=America/New_York:20250729T130000
DTSTAMP:20260423T065812
CREATED:20250628T023108Z
LAST-MODIFIED:20250628T023109Z
UID:10000006-1753790400-1753794000@recoveryrevolutionnc.com
SUMMARY:He“ART” Works Group
DESCRIPTION:A creative recovery art group using various artistic mediums to express emotions\, promote healing\, and create meaningful works straight from the heart.
URL:https://recoveryrevolutionnc.com/event/heart-works-group-2/2025-07-29/
LOCATION:R3 Recovery Center\, 234 Jefferson Street\, North Wilkesboro\, NC\, 28659\, United States
CATEGORIES:Groups,R3 Recovery Center
END:VEVENT
BEGIN:VEVENT
DTSTART;TZID=America/New_York:20250728T120000
DTEND;TZID=America/New_York:20250728T130000
DTSTAMP:20260423T065812
CREATED:20250628T024636Z
LAST-MODIFIED:20250628T024636Z
UID:10000725-1753704000-1753707600@recoveryrevolutionnc.com
SUMMARY:Dharma Recovery Meeting
DESCRIPTION:A mindfulness-based support group grounded in Buddhist principles\, offering tools for overcoming addiction through meditation\, self-inquiry\, and community connection.
URL:https://recoveryrevolutionnc.com/event/dharma-recovery-meeting/2025-07-28/
LOCATION:R3 Recovery Center\, 234 Jefferson Street\, North Wilkesboro\, NC\, 28659\, United States
CATEGORIES:Groups,R3 Recovery Center
END:VEVENT
BEGIN:VEVENT
DTSTART;TZID=America/New_York:20250725T120000
DTEND;TZID=America/New_York:20250725T130000
DTSTAMP:20260423T065812
CREATED:20250628T024443Z
LAST-MODIFIED:20250628T024443Z
UID:10000465-1753444800-1753448400@recoveryrevolutionnc.com
SUMMARY:SMART Recovery Meeting
DESCRIPTION:A science-based recovery group focused on self-empowerment and practical tools to build motivation\, manage urges\, and develop healthy thinking.
URL:https://recoveryrevolutionnc.com/event/smart-recovery-meeting/2025-07-25/
LOCATION:R3 Recovery Center\, 234 Jefferson Street\, North Wilkesboro\, NC\, 28659\, United States
CATEGORIES:Groups,R3 Recovery Center
END:VEVENT
BEGIN:VEVENT
DTSTART;TZID=America/New_York:20250724T120000
DTEND;TZID=America/New_York:20250724T130000
DTSTAMP:20260423T065812
CREATED:20250628T025342Z
LAST-MODIFIED:20250628T025342Z
UID:10001242-1753358400-1753362000@recoveryrevolutionnc.com
SUMMARY:The Common Thread
DESCRIPTION:A topic-driven discussion group designed to explore shared experiences\, challenges\, and successes in recovery through open\, guided conversations.
URL:https://recoveryrevolutionnc.com/event/the-common-thread/2025-07-24/
LOCATION:R3 Recovery Center\, 234 Jefferson Street\, North Wilkesboro\, NC\, 28659\, United States
CATEGORIES:Groups,R3 Recovery Center
END:VEVENT
BEGIN:VEVENT
DTSTART;TZID=America/New_York:20250723T120000
DTEND;TZID=America/New_York:20250723T130000
DTSTAMP:20260423T065812
CREATED:20250628T023620Z
LAST-MODIFIED:20250628T023620Z
UID:10000138-1753272000-1753275600@recoveryrevolutionnc.com
SUMMARY:All Recovery Meeting
DESCRIPTION:Open to anyone seeking recovery\, regardless of pathway. This inclusive group offers a space for shared experiences\, mutual support\, and hope.
URL:https://recoveryrevolutionnc.com/event/all-recovery-meeting/2025-07-23/
LOCATION:R3 Recovery Center\, 234 Jefferson Street\, North Wilkesboro\, NC\, 28659\, United States
CATEGORIES:Groups,R3 Recovery Center
END:VEVENT
BEGIN:VEVENT
DTSTART;TZID=America/New_York:20250722T120000
DTEND;TZID=America/New_York:20250722T130000
DTSTAMP:20260423T065812
CREATED:20250628T024823Z
LAST-MODIFIED:20250628T024823Z
UID:10000983-1753185600-1753189200@recoveryrevolutionnc.com
SUMMARY:Voices of Hope: Speaker Meeting
DESCRIPTION:Speaker meetings where individuals in recovery share their personal stories of struggle\, resilience\, and transformation to inspire others.
URL:https://recoveryrevolutionnc.com/event/voices-of-hope-speaker-meeting/2025-07-22/
LOCATION:R3 Recovery Center\, 234 Jefferson Street\, North Wilkesboro\, NC\, 28659\, United States
CATEGORIES:Groups,R3 Recovery Center
END:VEVENT
BEGIN:VEVENT
DTSTART;TZID=America/New_York:20250721T120000
DTEND;TZID=America/New_York:20250721T130000
DTSTAMP:20260423T065812
CREATED:20250628T024636Z
LAST-MODIFIED:20250628T024636Z
UID:10000724-1753099200-1753102800@recoveryrevolutionnc.com
SUMMARY:Dharma Recovery Meeting
DESCRIPTION:A mindfulness-based support group grounded in Buddhist principles\, offering tools for overcoming addiction through meditation\, self-inquiry\, and community connection.
URL:https://recoveryrevolutionnc.com/event/dharma-recovery-meeting/2025-07-21/
LOCATION:R3 Recovery Center\, 234 Jefferson Street\, North Wilkesboro\, NC\, 28659\, United States
CATEGORIES:Groups,R3 Recovery Center
END:VEVENT
BEGIN:VEVENT
DTSTART;TZID=America/New_York:20250718T120000
DTEND;TZID=America/New_York:20250718T130000
DTSTAMP:20260423T065812
CREATED:20250628T024443Z
LAST-MODIFIED:20250628T024443Z
UID:10000464-1752840000-1752843600@recoveryrevolutionnc.com
SUMMARY:SMART Recovery Meeting
DESCRIPTION:A science-based recovery group focused on self-empowerment and practical tools to build motivation\, manage urges\, and develop healthy thinking.
URL:https://recoveryrevolutionnc.com/event/smart-recovery-meeting/2025-07-18/
LOCATION:R3 Recovery Center\, 234 Jefferson Street\, North Wilkesboro\, NC\, 28659\, United States
CATEGORIES:Groups,R3 Recovery Center
END:VEVENT
BEGIN:VEVENT
DTSTART;TZID=America/New_York:20250717T120000
DTEND;TZID=America/New_York:20250717T130000
DTSTAMP:20260423T065812
CREATED:20250628T025219Z
LAST-MODIFIED:20250628T025500Z
UID:10001307-1752753600-1752757200@recoveryrevolutionnc.com
SUMMARY:Harmony Within Group
DESCRIPTION:A calming support group that blends meditation\, gratitude practices\, positive affirmations\, and music to promote inner peace and connection.
URL:https://recoveryrevolutionnc.com/event/harmony-within-group/2025-07-17/
LOCATION:R3 Recovery Center\, 234 Jefferson Street\, North Wilkesboro\, NC\, 28659\, United States
CATEGORIES:Groups,R3 Recovery Center
END:VEVENT
BEGIN:VEVENT
DTSTART;TZID=America/New_York:20250716T120000
DTEND;TZID=America/New_York:20250716T130000
DTSTAMP:20260423T065812
CREATED:20250628T023620Z
LAST-MODIFIED:20250628T023620Z
UID:10000137-1752667200-1752670800@recoveryrevolutionnc.com
SUMMARY:All Recovery Meeting
DESCRIPTION:Open to anyone seeking recovery\, regardless of pathway. This inclusive group offers a space for shared experiences\, mutual support\, and hope.
URL:https://recoveryrevolutionnc.com/event/all-recovery-meeting/2025-07-16/
LOCATION:R3 Recovery Center\, 234 Jefferson Street\, North Wilkesboro\, NC\, 28659\, United States
CATEGORIES:Groups,R3 Recovery Center
END:VEVENT
BEGIN:VEVENT
DTSTART;TZID=America/New_York:20250715T120000
DTEND;TZID=America/New_York:20250715T130000
DTSTAMP:20260423T065812
CREATED:20250628T023108Z
LAST-MODIFIED:20250628T023109Z
UID:10000005-1752580800-1752584400@recoveryrevolutionnc.com
SUMMARY:He“ART” Works Group
DESCRIPTION:A creative recovery art group using various artistic mediums to express emotions\, promote healing\, and create meaningful works straight from the heart.
URL:https://recoveryrevolutionnc.com/event/heart-works-group-2/2025-07-15/
LOCATION:R3 Recovery Center\, 234 Jefferson Street\, North Wilkesboro\, NC\, 28659\, United States
CATEGORIES:Groups,R3 Recovery Center
END:VEVENT
BEGIN:VEVENT
DTSTART;TZID=America/New_York:20250714T120000
DTEND;TZID=America/New_York:20250714T130000
DTSTAMP:20260423T065812
CREATED:20250628T024636Z
LAST-MODIFIED:20250628T024636Z
UID:10000723-1752494400-1752498000@recoveryrevolutionnc.com
SUMMARY:Dharma Recovery Meeting
DESCRIPTION:A mindfulness-based support group grounded in Buddhist principles\, offering tools for overcoming addiction through meditation\, self-inquiry\, and community connection.
URL:https://recoveryrevolutionnc.com/event/dharma-recovery-meeting/2025-07-14/
LOCATION:R3 Recovery Center\, 234 Jefferson Street\, North Wilkesboro\, NC\, 28659\, United States
CATEGORIES:Groups,R3 Recovery Center
END:VEVENT
BEGIN:VEVENT
DTSTART;TZID=America/New_York:20250711T120000
DTEND;TZID=America/New_York:20250711T130000
DTSTAMP:20260423T065812
CREATED:20250628T024443Z
LAST-MODIFIED:20250628T024443Z
UID:10000463-1752235200-1752238800@recoveryrevolutionnc.com
SUMMARY:SMART Recovery Meeting
DESCRIPTION:A science-based recovery group focused on self-empowerment and practical tools to build motivation\, manage urges\, and develop healthy thinking.
URL:https://recoveryrevolutionnc.com/event/smart-recovery-meeting/2025-07-11/
LOCATION:R3 Recovery Center\, 234 Jefferson Street\, North Wilkesboro\, NC\, 28659\, United States
CATEGORIES:Groups,R3 Recovery Center
END:VEVENT
BEGIN:VEVENT
DTSTART;TZID=America/New_York:20250710T120000
DTEND;TZID=America/New_York:20250710T130000
DTSTAMP:20260423T065812
CREATED:20250628T025040Z
LAST-MODIFIED:20250628T025647Z
UID:10001372-1752148800-1752152400@recoveryrevolutionnc.com
SUMMARY:Screen & Share Group
DESCRIPTION:Watch and discuss recovery-centered content\, such as movies\, documentaries\, TED Talks\, or inspirational speakers\, followed by group reflection.
URL:https://recoveryrevolutionnc.com/event/screen-share-group/2025-07-10/
LOCATION:R3 Recovery Center\, 234 Jefferson Street\, North Wilkesboro\, NC\, 28659\, United States
CATEGORIES:Groups,R3 Recovery Center
END:VEVENT
BEGIN:VEVENT
DTSTART;TZID=America/New_York:20250709T120000
DTEND;TZID=America/New_York:20250709T130000
DTSTAMP:20260423T065812
CREATED:20250628T023620Z
LAST-MODIFIED:20250628T023620Z
UID:10000136-1752062400-1752066000@recoveryrevolutionnc.com
SUMMARY:All Recovery Meeting
DESCRIPTION:Open to anyone seeking recovery\, regardless of pathway. This inclusive group offers a space for shared experiences\, mutual support\, and hope.
URL:https://recoveryrevolutionnc.com/event/all-recovery-meeting/2025-07-09/
LOCATION:R3 Recovery Center\, 234 Jefferson Street\, North Wilkesboro\, NC\, 28659\, United States
CATEGORIES:Groups,R3 Recovery Center
END:VEVENT
BEGIN:VEVENT
DTSTART;TZID=America/New_York:20250708T120000
DTEND;TZID=America/New_York:20250708T130000
DTSTAMP:20260423T065812
CREATED:20250628T024823Z
LAST-MODIFIED:20250628T024823Z
UID:10000982-1751976000-1751979600@recoveryrevolutionnc.com
SUMMARY:Voices of Hope: Speaker Meeting
DESCRIPTION:Speaker meetings where individuals in recovery share their personal stories of struggle\, resilience\, and transformation to inspire others.
URL:https://recoveryrevolutionnc.com/event/voices-of-hope-speaker-meeting/2025-07-08/
LOCATION:R3 Recovery Center\, 234 Jefferson Street\, North Wilkesboro\, NC\, 28659\, United States
CATEGORIES:Groups,R3 Recovery Center
END:VEVENT
BEGIN:VEVENT
DTSTART;TZID=America/New_York:20250707T120000
DTEND;TZID=America/New_York:20250707T130000
DTSTAMP:20260423T065812
CREATED:20250628T024636Z
LAST-MODIFIED:20250628T024636Z
UID:10000722-1751889600-1751893200@recoveryrevolutionnc.com
SUMMARY:Dharma Recovery Meeting
DESCRIPTION:A mindfulness-based support group grounded in Buddhist principles\, offering tools for overcoming addiction through meditation\, self-inquiry\, and community connection.
URL:https://recoveryrevolutionnc.com/event/dharma-recovery-meeting/2025-07-07/
LOCATION:R3 Recovery Center\, 234 Jefferson Street\, North Wilkesboro\, NC\, 28659\, United States
CATEGORIES:Groups,R3 Recovery Center
END:VEVENT
BEGIN:VEVENT
DTSTART;TZID=America/New_York:20250703T120000
DTEND;TZID=America/New_York:20250703T130000
DTSTAMP:20260423T065812
CREATED:20250628T024140Z
LAST-MODIFIED:20250628T024140Z
UID:10000396-1751544000-1751547600@recoveryrevolutionnc.com
SUMMARY:Winning Together: Recovery Game Day
DESCRIPTION:Join us for a fun and supportive group experience where we play a variety of games\, build connections\, and celebrate wins—big and small—together. Whether it’s cards\, board games\, trivia\, or team challenges\, Winning Together is about more than just playing—it’s about strengthening recovery through laughter\, teamwork\, and shared success. Everyone is welcome—let’s win together!
URL:https://recoveryrevolutionnc.com/event/winning-together-recovery-game-day/2025-07-03/
LOCATION:R3 Recovery Center\, 234 Jefferson Street\, North Wilkesboro\, NC\, 28659\, United States
END:VEVENT
BEGIN:VEVENT
DTSTART;TZID=America/New_York:20250702T120000
DTEND;TZID=America/New_York:20250702T130000
DTSTAMP:20260423T065812
CREATED:20250628T023620Z
LAST-MODIFIED:20250628T023620Z
UID:10000135-1751457600-1751461200@recoveryrevolutionnc.com
SUMMARY:All Recovery Meeting
DESCRIPTION:Open to anyone seeking recovery\, regardless of pathway. This inclusive group offers a space for shared experiences\, mutual support\, and hope.
URL:https://recoveryrevolutionnc.com/event/all-recovery-meeting/2025-07-02/
LOCATION:R3 Recovery Center\, 234 Jefferson Street\, North Wilkesboro\, NC\, 28659\, United States
CATEGORIES:Groups,R3 Recovery Center
END:VEVENT
BEGIN:VEVENT
DTSTART;TZID=America/New_York:20250701T120000
DTEND;TZID=America/New_York:20250701T130000
DTSTAMP:20260423T065812
CREATED:20250628T023108Z
LAST-MODIFIED:20250628T023109Z
UID:10000004-1751371200-1751374800@recoveryrevolutionnc.com
SUMMARY:He“ART” Works Group
DESCRIPTION:A creative recovery art group using various artistic mediums to express emotions\, promote healing\, and create meaningful works straight from the heart.
URL:https://recoveryrevolutionnc.com/event/heart-works-group-2/2025-07-01/
LOCATION:R3 Recovery Center\, 234 Jefferson Street\, North Wilkesboro\, NC\, 28659\, United States
CATEGORIES:Groups,R3 Recovery Center
END:VEVENT
BEGIN:VEVENT
DTSTART;TZID=America/New_York:20250627T120000
DTEND;TZID=America/New_York:20250627T130000
DTSTAMP:20260423T065812
CREATED:20250628T024443Z
LAST-MODIFIED:20250628T024443Z
UID:10000462-1751025600-1751029200@recoveryrevolutionnc.com
SUMMARY:SMART Recovery Meeting
DESCRIPTION:A science-based recovery group focused on self-empowerment and practical tools to build motivation\, manage urges\, and develop healthy thinking.
URL:https://recoveryrevolutionnc.com/event/smart-recovery-meeting/2025-06-27/
LOCATION:R3 Recovery Center\, 234 Jefferson Street\, North Wilkesboro\, NC\, 28659\, United States
CATEGORIES:Groups,R3 Recovery Center
END:VEVENT
BEGIN:VEVENT
DTSTART;TZID=America/New_York:20250617T120000
DTEND;TZID=America/New_York:20250617T130000
DTSTAMP:20260423T065812
CREATED:20250616T212711Z
LAST-MODIFIED:20250617T183658Z
UID:10000003-1750161600-1750165200@recoveryrevolutionnc.com
SUMMARY:He“ART” Works Group
DESCRIPTION:A creative recovery art group using various artistic mediums to express emotions\, promote healing\, and create meaningful works straight from the heart.
URL:https://recoveryrevolutionnc.com/event/heart-works-group/
LOCATION:R3 Recovery Center\, 234 Jefferson Street\, North Wilkesboro\, NC\, 28659\, United States
CATEGORIES:Groups,R3 Recovery Center
END:VEVENT
BEGIN:VEVENT
DTSTART;TZID=America/New_York:20250610T120000
DTEND;TZID=America/New_York:20250610T133000
DTSTAMP:20260423T065812
CREATED:20250605T160322Z
LAST-MODIFIED:20250610T130715Z
UID:10000001-1749556800-1749562200@recoveryrevolutionnc.com
SUMMARY:Bloom Annual Luncheon
DESCRIPTION:We’ll honor a special individual with the 2025 Recovery Champion Award\, which was nominated by our Board of Directors.\nAn inspiring guest speaker will take the stage to share a powerful message of hope.\nPlus\, we’ll share exciting updates on all things Wilkes Recovery Revolution and the impact you help make possible.
URL:https://recoveryrevolutionnc.com/event/bloom-annual-luncheon/
LOCATION:The Stone Family Center for Performing Arts\, 613 Cherry Street\, North Wilkesboro\, NC\, 28659\, United States
CATEGORIES:Luncheon
ATTACH;FMTTYPE=image/png:https://recoveryrevolutionnc.com/wp-content/uploads/2025/06/We-need-your-help-Sponsor-Our-Recovery-in-Full-Bloom-Luncheon-–-Help-Us-Grow-Hope-🌼-•-Superhuman-06-05-2025_12_06_PM.png
END:VEVENT
END:VCALENDAR